BEGIN:VCALENDAR
VERSION:2.0
PRODID:-//pretix//pretix.eu//
BEGIN:VTIMEZONE
TZID:Europe/Berlin
BEGIN:STANDARD
DTSTART:20001029T040000
RRULE:FREQ=YEARLY;BYDAY=-1SU;BYMONTH=10
TZNAME:CET
TZOFFSETFROM:+0200
TZOFFSETTO:+0100
END:STANDARD
BEGIN:DAYLIGHT
DTSTART:20000326T030000
RRULE:FREQ=YEARLY;BYDAY=-1SU;BYMONTH=3
TZNAME:CEST
TZOFFSETFROM:+0100
TZOFFSETTO:+0200
END:DAYLIGHT
END:VTIMEZONE
BEGIN:VEVENT
UID:pretix-pacht-02122023-0@tickets.p-acht.org
DTSTART;TZID=Europe/Berlin:20231202T193000
DTEND;TZID=Europe/Berlin:20231202T203000
DESCRIPTION:Tickets: https://tickets.p-acht.org/02122023/\nEinlass: 02.12.2
 023 19:00\nVeranstalter: P-Acht
DTSTAMP:20260423T154524Z
LOCATION:P8²\, Schauenburgstraße 5\, 76135 Karlsruhe
SUMMARY:P8² Hardcore Winterfest #1 mit BAD ASSUMPTION\, WAVES LIKE WALLS\,
  SOULPRISON\, VALARA und COLDSPINE
END:VEVENT
END:VCALENDAR
