BEGIN:VCALENDAR
VERSION:2.0
PRODID:-//pretix//pretix.eu//
BEGIN:VTIMEZONE
TZID:Europe/Berlin
BEGIN:STANDARD
DTSTART:20001029T040000
RRULE:FREQ=YEARLY;BYDAY=-1SU;BYMONTH=10
TZNAME:CET
TZOFFSETFROM:+0200
TZOFFSETTO:+0100
END:STANDARD
BEGIN:DAYLIGHT
DTSTART:20000326T030000
RRULE:FREQ=YEARLY;BYDAY=-1SU;BYMONTH=3
TZNAME:CEST
TZOFFSETFROM:+0100
TZOFFSETTO:+0200
END:DAYLIGHT
END:VTIMEZONE
BEGIN:VEVENT
UID:pretix-pacht-050626-0@tickets.p-acht.org
DTSTART;TZID=Europe/Berlin:20260605T200000
DTEND;TZID=Europe/Berlin:20260605T210000
DESCRIPTION:Tickets: https://tickets.p-acht.org/050626/\nEinlass: 05.06.202
 6 19:00\nVeranstalter: P-Acht
DTSTAMP:20260423T212628Z
LOCATION:P8²\, Schauenburgstraße 5\, 76135 Karlsruhe
SUMMARY:SO FUCKIN' CONFUSED + JOTA + NO ESCAPE + BORN HANGED
END:VEVENT
END:VCALENDAR
