BEGIN:VCALENDAR
VERSION:2.0
PRODID:-//pretix//pretix.eu//
BEGIN:VTIMEZONE
TZID:Europe/Berlin
BEGIN:STANDARD
DTSTART:20001029T040000
RRULE:FREQ=YEARLY;BYDAY=-1SU;BYMONTH=10
TZNAME:CET
TZOFFSETFROM:+0200
TZOFFSETTO:+0100
END:STANDARD
BEGIN:DAYLIGHT
DTSTART:20000326T030000
RRULE:FREQ=YEARLY;BYDAY=-1SU;BYMONTH=3
TZNAME:CEST
TZOFFSETFROM:+0100
TZOFFSETTO:+0200
END:DAYLIGHT
END:VTIMEZONE
BEGIN:VEVENT
UID:pretix-pacht-sbncht-0@tickets.p-acht.org
DTSTART;TZID=Europe/Berlin:20221210T190000
DTEND;TZID=Europe/Berlin:20221211T010000
DESCRIPTION:Tickets: https://tickets.p-acht.org/sbncht/\nEinlass: 10.12.202
 2 18:00\nVeranstalter: P-Acht
DTSTAMP:20260423T212628Z
LOCATION:P8²\, Schauenburgstraße 5\, 76135 Karlsruhe
SUMMARY:Schabernacht: MØRF + Monday Joe & the freaks of the week + Mess Up
  Your DNA + Dr. Jambalo + The Lunatics
END:VEVENT
END:VCALENDAR
